BEGIN:VCALENDAR
PRODID:-//PUBBLE//agenda//NL
VERSION:2.0
METHOD:PUBLISH
BEGIN:VEVENT
DTSTART:20221201T075443Z
DTEND:20221209T193000Z
DTSTAMP:20260422T151935Z
UID:6b16be13-3e82-4a5b-bf53-91ee5073e9a6
CREATED:20260422T151935Z
NAME:Ecstatic Dance met Dragonfly allesoverkatwijk.nl
X-WR-CALNAME:Ecstatic Dance met Dragonfly
X-ALT-DESC;FMTTYPE=text/html:<a href='/agenda/2022/12/9/ecstatic-dance-met-dragonfly-80839'>/agenda/2022/12/9/ecstatic-dance-met-dragonfly-80839</a> || <h2 class="kop_klein_18pt_regural"><strong>In de Soefitempel in Katwijk houdt Dragonfly vrijdag 9 december een Ecstatic Dance.</strong></h2><p class="brood_linkslijnend" pstyle="brood_linkslijnend">Kom en laat je verwonderen door de magie van intuïtieve muziek en laat je lichaam heerlijk vrij bewegen! &nbsp;Wij zijn Dragonfly en omdat onze muziek volledig geïmproviseerd is, staan we in direct contact met de dansers. Ze bewegen op onze muziek, wij reageren op hun bewegingen. Energie stijgt en samen bereiken we grote climaxen en de ervaring van een natuurlijke trance.</p><p class="brood_linkslijnend" pstyle="brood_linkslijnend">Dan rusten we, huilen, lachen. En beginnen weer met het opbouwen van nieuwe climaxen. Allemaal zonder woorden. Gewoon geluiden en bewegingen, muzikanten en dansers. Het gaat niet om ‘mooi’ dansen maar gewoon om lekker je lijf vrij te laten bewegen op live muziek!</p><p class="brood_linkslijnend" pstyle="brood_linkslijnend">Muzikanten: Dymphi Peeters (zang, kora, fluit), Lex Pantelic (gitaar, tanboor, Griekse baglama), Terence Samson (percussie) en Boudine van Slobbe (Slagerij van Kampen) (percussie).</p><p class="brood_linkslijnend" pstyle="brood_linkslijnend">Vrijdag 9 december van 19.30-21.30 uur. Prijs: Early bird 30 euro, later 33 euro. Tickets via&nbsp;</p><p class="brood_linkslijnend" pstyle="brood_linkslijnend"><a href="http://www.universel.nl/agenda" rel="noopener noreferrer" target="_blank">www.universel.nl/agenda</a></p>
DESCRIPTION:<a href='/agenda/2022/12/9/ecstatic-dance-met-dragonfly-80839'>/agenda/2022/12/9/ecstatic-dance-met-dragonfly-80839</a> || <h2 class="kop_klein_18pt_regural"><strong>In de Soefitempel in Katwijk houdt Dragonfly vrijdag 9 december een Ecstatic Dance.</strong></h2><p class="brood_linkslijnend" pstyle="brood_linkslijnend">Kom en laat je verwonderen door de magie van intuïtieve muziek en laat je lichaam heerlijk vrij bewegen! &nbsp;Wij zijn Dragonfly en omdat onze muziek volledig geïmproviseerd is, staan we in direct contact met de dansers. Ze bewegen op onze muziek, wij reageren op hun bewegingen. Energie stijgt en samen bereiken we grote climaxen en de ervaring van een natuurlijke trance.</p><p class="brood_linkslijnend" pstyle="brood_linkslijnend">Dan rusten we, huilen, lachen. En beginnen weer met het opbouwen van nieuwe climaxen. Allemaal zonder woorden. Gewoon geluiden en bewegingen, muzikanten en dansers. Het gaat niet om ‘mooi’ dansen maar gewoon om lekker je lijf vrij te laten bewegen op live muziek!</p><p class="brood_linkslijnend" pstyle="brood_linkslijnend">Muzikanten: Dymphi Peeters (zang, kora, fluit), Lex Pantelic (gitaar, tanboor, Griekse baglama), Terence Samson (percussie) en Boudine van Slobbe (Slagerij van Kampen) (percussie).</p><p class="brood_linkslijnend" pstyle="brood_linkslijnend">Vrijdag 9 december van 19.30-21.30 uur. Prijs: Early bird 30 euro, later 33 euro. Tickets via&nbsp;</p><p class="brood_linkslijnend" pstyle="brood_linkslijnend"><a href="http://www.universel.nl/agenda" rel="noopener noreferrer" target="_blank">www.universel.nl/agenda</a></p>
LAST-MODIFIED:20260422T151935Z
LOCATION: Soefitempel | Zuidduinseweg 7 Katwijk
SEQUENCE:0
STATUS:CONFIRMED
SUMMARY:Ecstatic Dance met Dragonfly
TRANSP:OPAQUE
END:VEVENT
END:VCALENDAR
